BEGIN:VCALENDAR
PRODID:-//climbIT//Tourenangebot//DE
VERSION:2.0
METHOD:PUBLISH
BEGIN:VEVENT
UID:tour-05dc79b6-9f06-4ac7-af3d-2eb65819a0c8@touren.sac-albis.ch
DTSTAMP:20260423T115737
SEQUENCE:0
CLASS:PUBLIC
TRANSP:OPAQUE
DTSTART;VALUE=DATE:20250114
DTEND;VALUE=DATE:20250115
SUMMARY:Sektion Am Albis: Hagelstock
DESCRIPTION:Nach deiner Anmeldung und bei jeder Statusänderung wird ein Kalendereintrag per E-Mail verschickt.\n\nAktuelle Informationen\nTourenlink: https://touren.sac-albis.ch/tours/view/05dc79b6-9f06-4ac7-af3d-2eb65819a0c8\n\n\nDein Tourenangebot Team
END:VEVENT
END:VCALENDAR