BEGIN:VCALENDAR
PRODID:-//climbIT//Tourenangebot//DE
VERSION:2.0
METHOD:PUBLISH
BEGIN:VEVENT
UID:tour-342299b9-1f40-40b2-9c5a-97c0c312cf52@touren.sac-albis.ch
DTSTAMP:20260420T021021
SEQUENCE:0
CLASS:PUBLIC
TRANSP:OPAQUE
DTSTART;VALUE=DATE:20221124
DTEND;VALUE=DATE:20221125
SUMMARY:Sektion Am Albis: Bouldertraining in Adliswil
DESCRIPTION:Nach deiner Anmeldung und bei jeder Statusänderung wird ein Kalendereintrag per E-Mail verschickt.\n\nAktuelle Informationen\nTourenlink: https://touren.sac-albis.ch/tours/view/342299b9-1f40-40b2-9c5a-97c0c312cf52\n\n\nDein Tourenangebot Team
END:VEVENT
END:VCALENDAR