BEGIN:VCALENDAR
PRODID:-//climbIT//Tourenangebot//DE
VERSION:2.0
METHOD:PUBLISH
BEGIN:VEVENT
UID:tour-38e2739d-d4b6-415e-aeff-c2b8b2d182db@touren.sac-albis.ch
DTSTAMP:20260420T021139
SEQUENCE:0
CLASS:PUBLIC
TRANSP:OPAQUE
DTSTART;VALUE=DATE:20220517
DTEND;VALUE=DATE:20220518
SUMMARY:Sektion Am Albis: Monte Boglia
DESCRIPTION:Nach deiner Anmeldung und bei jeder Statusänderung wird ein Kalendereintrag per E-Mail verschickt.\n\nAktuelle Informationen\nTourenlink: https://touren.sac-albis.ch/tours/view/38e2739d-d4b6-415e-aeff-c2b8b2d182db\n\n\nDein Tourenangebot Team
END:VEVENT
END:VCALENDAR