BEGIN:VCALENDAR
PRODID:-//climbIT//Tourenangebot//DE
VERSION:2.0
METHOD:PUBLISH
BEGIN:VEVENT
UID:tour-4e638995-11f8-49f0-923d-97714e2e3d2e@touren.sac-albis.ch
DTSTAMP:20260422T044403
SEQUENCE:0
CLASS:PUBLIC
TRANSP:OPAQUE
DTSTART;VALUE=DATE:20120225
DTEND;VALUE=DATE:20120226
SUMMARY:Sektion Am Albis: Gross Ruchen (3138m)
DESCRIPTION:Nach deiner Anmeldung und bei jeder Statusänderung wird ein Kalendereintrag per E-Mail verschickt.\n\nAktuelle Informationen\nTourenlink: https://touren.sac-albis.ch/tours/view/4e638995-11f8-49f0-923d-97714e2e3d2e\n\n\nDein Tourenangebot Team
END:VEVENT
END:VCALENDAR