BEGIN:VCALENDAR
PRODID:-//climbIT//Tourenangebot//DE
VERSION:2.0
METHOD:PUBLISH
BEGIN:VEVENT
UID:tour-55a23ff8-831c-4aeb-ab85-006dac11014e@touren.sac-albis.ch
DTSTAMP:20260423T104206
SEQUENCE:0
CLASS:PUBLIC
TRANSP:OPAQUE
DTSTART;VALUE=DATE:20160504
DTEND;VALUE=DATE:20160505
SUMMARY:Sektion Am Albis: Flusswanderung St.Urban - Aarwangen
DESCRIPTION:Nach deiner Anmeldung und bei jeder Statusänderung wird ein Kalendereintrag per E-Mail verschickt.\n\nAktuelle Informationen\nTourenlink: https://touren.sac-albis.ch/tours/view/55a23ff8-831c-4aeb-ab85-006dac11014e\n\n\nDein Tourenangebot Team
END:VEVENT
END:VCALENDAR