BEGIN:VCALENDAR
PRODID:-//climbIT//Tourenangebot//DE
VERSION:2.0
METHOD:PUBLISH
BEGIN:VEVENT
UID:tour-5d0ccf89-c810-436b-bb91-034cac120004@touren.sac-albis.ch
DTSTAMP:20260423T072609
SEQUENCE:0
CLASS:PUBLIC
TRANSP:OPAQUE
DTSTART;VALUE=DATE:20191108
DTEND;VALUE=DATE:20191109
SUMMARY:Sektion Am Albis: Kommissionsfest 2019
DESCRIPTION:Nach deiner Anmeldung und bei jeder Statusänderung wird ein Kalendereintrag per E-Mail verschickt.\n\nAktuelle Informationen\nTourenlink: https://touren.sac-albis.ch/tours/view/5d0ccf89-c810-436b-bb91-034cac120004\n\n\nDein Tourenangebot Team
END:VEVENT
END:VCALENDAR