BEGIN:VCALENDAR
PRODID:-//climbIT//Tourenangebot//DE
VERSION:2.0
METHOD:PUBLISH
BEGIN:VEVENT
UID:tour-5d813656-4d10-4869-aecc-0859ac120004@touren.sac-albis.ch
DTSTAMP:20260421T024912
SEQUENCE:0
CLASS:PUBLIC
TRANSP:OPAQUE
DTSTART;VALUE=DATE:20200920
DTEND;VALUE=DATE:20200921
SUMMARY:Sektion Am Albis: Bettagstreffen Eseltritt
DESCRIPTION:Nach deiner Anmeldung und bei jeder Statusänderung wird ein Kalendereintrag per E-Mail verschickt.\n\nAktuelle Informationen\nTourenlink: https://touren.sac-albis.ch/tours/view/5d813656-4d10-4869-aecc-0859ac120004\n\n\nDein Tourenangebot Team
END:VEVENT
END:VCALENDAR