BEGIN:VCALENDAR
PRODID:-//climbIT//Tourenangebot//DE
VERSION:2.0
METHOD:PUBLISH
BEGIN:VEVENT
UID:tour-8a89d0a0-531a-4728-885e-dedbfe435b4f@touren.sac-albis.ch
DTSTAMP:20260421T024633
SEQUENCE:0
CLASS:PUBLIC
TRANSP:OPAQUE
DTSTART;VALUE=DATE:20230706
DTEND;VALUE=DATE:20230707
SUMMARY:Sektion Am Albis: Bouldertraining in Adliswil
DESCRIPTION:Nach deiner Anmeldung und bei jeder Statusänderung wird ein Kalendereintrag per E-Mail verschickt.\n\nAktuelle Informationen\nTourenlink: https://touren.sac-albis.ch/tours/view/8a89d0a0-531a-4728-885e-dedbfe435b4f\n\n\nDein Tourenangebot Team
END:VEVENT
END:VCALENDAR