BEGIN:VCALENDAR
PRODID:-//climbIT//Tourenangebot//DE
VERSION:2.0
METHOD:PUBLISH
BEGIN:VEVENT
UID:tour-92e416d1-9aa7-482c-8c8d-dccaae4e1634@touren.sac-albis.ch
DTSTAMP:20260423T113403
SEQUENCE:0
CLASS:PUBLIC
TRANSP:OPAQUE
DTSTART;VALUE=DATE:20240228
DTEND;VALUE=DATE:20240229
SUMMARY:Sektion Am Albis: Mittwochwanderung: Thur entdecken: Etappe 12
DESCRIPTION:Nach deiner Anmeldung und bei jeder Statusänderung wird ein Kalendereintrag per E-Mail verschickt.\n\nAktuelle Informationen\nTourenlink: https://touren.sac-albis.ch/tours/view/92e416d1-9aa7-482c-8c8d-dccaae4e1634\n\n\nDein Tourenangebot Team
END:VEVENT
END:VCALENDAR