BEGIN:VCALENDAR
PRODID:-//climbIT//Tourenangebot//DE
VERSION:2.0
METHOD:PUBLISH
BEGIN:VEVENT
UID:tour-a540bce4-90a2-4580-8903-db959cd8d53d@touren.sac-albis.ch
DTSTAMP:20260423T115547
SEQUENCE:0
CLASS:PUBLIC
TRANSP:OPAQUE
DTSTART;VALUE=DATE:20250111
DTEND;VALUE=DATE:20250112
SUMMARY:Sektion Am Albis: Hallenklettertechnikkurs
DESCRIPTION:Nach deiner Anmeldung und bei jeder Statusänderung wird ein Kalendereintrag per E-Mail verschickt.\n\nAktuelle Informationen\nTourenlink: https://touren.sac-albis.ch/tours/view/a540bce4-90a2-4580-8903-db959cd8d53d\n\n\nDein Tourenangebot Team
END:VEVENT
END:VCALENDAR