BEGIN:VCALENDAR
PRODID:-//climbIT//Tourenangebot//DE
VERSION:2.0
METHOD:PUBLISH
BEGIN:VEVENT
UID:tour-a8cea6e5-565d-458c-a471-6c40da68a2f2@touren.sac-albis.ch
DTSTAMP:20260423T114429
SEQUENCE:0
CLASS:PUBLIC
TRANSP:OPAQUE
DTSTART;VALUE=DATE:20250423
DTEND;VALUE=DATE:20250424
SUMMARY:Sektion Am Albis: Mittwochwanderung: Wo Störche Nisten
DESCRIPTION:Nach deiner Anmeldung und bei jeder Statusänderung wird ein Kalendereintrag per E-Mail verschickt.\n\nAktuelle Informationen\nTourenlink: https://touren.sac-albis.ch/tours/view/a8cea6e5-565d-458c-a471-6c40da68a2f2\n\n\nDein Tourenangebot Team
END:VEVENT
END:VCALENDAR