BEGIN:VCALENDAR
PRODID:-//climbIT//Tourenangebot//DE
VERSION:2.0
METHOD:PUBLISH
BEGIN:VEVENT
UID:tour-aeae0477-6ef9-4650-b268-a3dad7e9ad15@touren.sac-albis.ch
DTSTAMP:20260425T031423
SEQUENCE:0
CLASS:PUBLIC
TRANSP:OPAQUE
DTSTART;VALUE=DATE:20240910
DTEND;VALUE=DATE:20240912
SUMMARY:Sektion Am Albis: Wildstrubel 
DESCRIPTION:Nach deiner Anmeldung und bei jeder Statusänderung wird ein Kalendereintrag per E-Mail verschickt.\n\nAktuelle Informationen\nTourenlink: https://touren.sac-albis.ch/tours/view/aeae0477-6ef9-4650-b268-a3dad7e9ad15\n\n\nDein Tourenangebot Team
END:VEVENT
END:VCALENDAR