BEGIN:VCALENDAR
PRODID:-//climbIT//Tourenangebot//DE
VERSION:2.0
METHOD:PUBLISH
BEGIN:VEVENT
UID:tour-bfbf2fd0-95c2-4b23-9ac6-2cf4da1cc793@touren.sac-albis.ch
DTSTAMP:20260423T115744
SEQUENCE:0
CLASS:PUBLIC
TRANSP:OPAQUE
DTSTART;VALUE=DATE:20241231
DTEND;VALUE=DATE:20250101
SUMMARY:Sektion Am Albis: Spontantour: Glattigrat - Bärenfalle - Fjorde des Vierwaldstättersees
DESCRIPTION:Nach deiner Anmeldung und bei jeder Statusänderung wird ein Kalendereintrag per E-Mail verschickt.\n\nAktuelle Informationen\nTourenlink: https://touren.sac-albis.ch/tours/view/bfbf2fd0-95c2-4b23-9ac6-2cf4da1cc793\n\n\nDein Tourenangebot Team
END:VEVENT
END:VCALENDAR