BEGIN:VCALENDAR
PRODID:-//climbIT//Tourenangebot//DE
VERSION:2.0
METHOD:PUBLISH
BEGIN:VEVENT
UID:tour-e464a1b1-e0b4-4bc3-ae49-08f4440d36ca@touren.sac-albis.ch
DTSTAMP:20260423T115546
SEQUENCE:0
CLASS:PUBLIC
TRANSP:OPAQUE
DTSTART;VALUE=DATE:20230623
DTEND;VALUE=DATE:20230625
SUMMARY:Sektion Am Albis: Vordertierberg über den Ostgrat
DESCRIPTION:Nach deiner Anmeldung und bei jeder Statusänderung wird ein Kalendereintrag per E-Mail verschickt.\n\nAktuelle Informationen\nTourenlink: https://touren.sac-albis.ch/tours/view/e464a1b1-e0b4-4bc3-ae49-08f4440d36ca\n\n\nDein Tourenangebot Team
END:VEVENT
END:VCALENDAR